BEGIN:VCALENDAR
PRODID:-//github.com/rianjs/ical.net//NONSGML ical.net 4.0//EN
VERSION:2.0
BEGIN:VTIMEZONE
TZID:Central Standard Time
X-LIC-LOCATION:America/Chicago
BEGIN:STANDARD
DTSTART:20241103T020000
RRULE:FREQ=YEARLY;BYDAY=1SU;BYMONTH=11
TZNAME:CST
TZOFFSETFROM:-0500
TZOFFSETTO:-0600
END:STANDARD
BEGIN:DAYLIGHT
DTSTART:20250309T020000
RRULE:FREQ=YEARLY;BYDAY=2SU;BYMONTH=3
TZNAME:CDT
TZOFFSETFROM:-0600
TZOFFSETTO:-0500
END:DAYLIGHT
END:VTIMEZONE
BEGIN:VEVENT
DESCRIPTION:2026 Annual Meeting by the American Academy of Neurology\n\nTi
 tle: Finding Efficiencies in Brain Health Treatment Pathways (Brain Healt
 h Hub)\n\nAccess URL: https://www.aan.com/msa/Public/Events/GetEventURL/2
 3341\n\nLearn More About This Event: https://www.aan.com/msa/Public/Event
 s/Details/23341
DTEND;TZID=Central Standard Time:20260419T141500
DTSTAMP:20260420T023459Z
DTSTART;TZID=Central Standard Time:20260419T133000
LOCATION:McCormick Place West | W375c Lobby
SEQUENCE:0
SUMMARY:AAN: Finding Efficiencies in Brain Health Treatment Pathways (Brai
 n Health Hub)
UID:4ba675bf-ff8c-4ae5-9c81-a633debfceee
END:VEVENT
END:VCALENDAR
