BEGIN:VCALENDAR
PRODID:-//github.com/rianjs/ical.net//NONSGML ical.net 4.0//EN
VERSION:2.0
BEGIN:VTIMEZONE
TZID:Central Standard Time
X-LIC-LOCATION:America/Chicago
BEGIN:STANDARD
DTSTART:20241103T020000
RRULE:FREQ=YEARLY;BYDAY=1SU;BYMONTH=11
TZNAME:CST
TZOFFSETFROM:-0500
TZOFFSETTO:-0600
END:STANDARD
BEGIN:DAYLIGHT
DTSTART:20250309T020000
RRULE:FREQ=YEARLY;BYDAY=2SU;BYMONTH=3
TZNAME:CDT
TZOFFSETFROM:-0600
TZOFFSETTO:-0500
END:DAYLIGHT
END:VTIMEZONE
BEGIN:VEVENT
DESCRIPTION:2026 Annual Meeting by the American Academy of Neurology\n\nTi
 tle: GES Behind the Scenes\n\nDescription: GEs will be doing a behind the
  scenes of the AAN meeting for their clients.\n\nLearn More About This Ev
 ent: https://www.aan.com/msa/Public/Events/Details/23342
DTEND;TZID=Central Standard Time:20260422T120000
DTSTAMP:20260421T031016Z
DTSTART;TZID=Central Standard Time:20260422T080000
LOCATION:McCormick Place West | W185a
SEQUENCE:0
SUMMARY:AAN: GES Behind the Scenes
UID:3bba9167-a33a-42fc-8ae9-61bb223a5e80
END:VEVENT
END:VCALENDAR
