BEGIN:VCALENDAR
PRODID:-//github.com/rianjs/ical.net//NONSGML ical.net 4.0//EN
VERSION:2.0
BEGIN:VTIMEZONE
TZID:Central Standard Time
X-LIC-LOCATION:America/Chicago
BEGIN:STANDARD
DTSTART:20241103T020000
RRULE:FREQ=YEARLY;BYDAY=1SU;BYMONTH=11
TZNAME:CST
TZOFFSETFROM:-0500
TZOFFSETTO:-0600
END:STANDARD
BEGIN:DAYLIGHT
DTSTART:20250309T020000
RRULE:FREQ=YEARLY;BYDAY=2SU;BYMONTH=3
TZNAME:CDT
TZOFFSETFROM:-0600
TZOFFSETTO:-0500
END:DAYLIGHT
END:VTIMEZONE
BEGIN:VEVENT
DESCRIPTION:2026 Annual Meeting by the American Academy of Neurology\n\nTi
 tle: Kyverna LT Meeting\n\nDescription: Our LT need time to meet in perso
 n for an internal LT Meeting.\n\nLearn More About This Event: https://www
 .aan.com/msa/Public/Events/Details/23343
DTEND;TZID=Central Standard Time:20260421T160000
DTSTAMP:20260421T034615Z
DTSTART;TZID=Central Standard Time:20260421T130000
LOCATION:https://www.aan.com/msa/Public/Events/GetEventURL/23343
SEQUENCE:0
SUMMARY:AAN: Kyverna LT Meeting
UID:08f0b30a-9aae-4a1f-8b52-671cd624212c
END:VEVENT
END:VCALENDAR
