BEGIN:VCALENDAR
PRODID:-//github.com/rianjs/ical.net//NONSGML ical.net 4.0//EN
VERSION:2.0
BEGIN:VTIMEZONE
TZID:Central Standard Time
X-LIC-LOCATION:America/Chicago
BEGIN:STANDARD
DTSTART:20241103T020000
RRULE:FREQ=YEARLY;BYDAY=1SU;BYMONTH=11
TZNAME:CST
TZOFFSETFROM:-0500
TZOFFSETTO:-0600
END:STANDARD
BEGIN:DAYLIGHT
DTSTART:20250309T020000
RRULE:FREQ=YEARLY;BYDAY=2SU;BYMONTH=3
TZNAME:CDT
TZOFFSETFROM:-0600
TZOFFSETTO:-0500
END:DAYLIGHT
END:VTIMEZONE
BEGIN:VEVENT
DESCRIPTION:2026 Annual Meeting by the American Academy of Neurology\n\nTi
 tle: Xenon Pharma \n\nDescription: Meetings with KOL & internal customer 
 engagement and marketing team\n\nLearn More About This Event: https://www
 .aan.com/msa/Public/Events/Details/23345
DTEND;TZID=Central Standard Time:20260419T170000
DTSTAMP:20260421T084006Z
DTSTART;TZID=Central Standard Time:20260419T090000
LOCATION:Marriott Marquis Chicago | Geology
SEQUENCE:0
SUMMARY:AAN: Xenon Pharma
UID:dafd113a-e370-41fe-8ffb-a829e37b58cb
END:VEVENT
END:VCALENDAR
