BEGIN:VCALENDAR
PRODID:-//github.com/rianjs/ical.net//NONSGML ical.net 4.0//EN
VERSION:2.0
BEGIN:VTIMEZONE
TZID:Central Standard Time
X-LIC-LOCATION:America/Chicago
BEGIN:STANDARD
DTSTART:20241103T020000
RRULE:FREQ=YEARLY;BYDAY=1SU;BYMONTH=11
TZNAME:CST
TZOFFSETFROM:-0500
TZOFFSETTO:-0600
END:STANDARD
BEGIN:DAYLIGHT
DTSTART:20250309T020000
RRULE:FREQ=YEARLY;BYDAY=2SU;BYMONTH=3
TZNAME:CDT
TZOFFSETFROM:-0600
TZOFFSETTO:-0500
END:DAYLIGHT
END:VTIMEZONE
BEGIN:VEVENT
DESCRIPTION:2026 Annual Meeting by the American Academy of Neurology\n\nTi
 tle: Arcellx_ Principal Investigator round table\n\nDescription: Meeting 
 with study Principal Investigators to discuss study updates \n\nLearn Mor
 e About This Event: https://www.aan.com/msa/Public/Events/Details/23348
DTEND;TZID=Central Standard Time:20260419T133000
DTSTAMP:20260421T073848Z
DTSTART;TZID=Central Standard Time:20260419T120000
LOCATION:Hyatt Regency McCormick Place Chicago | State Street
SEQUENCE:0
SUMMARY:AAN: Arcellx_ Principal Investigator round table
UID:276f1438-4524-45e0-8432-e056795ceccc
END:VEVENT
END:VCALENDAR
