BEGIN:VCALENDAR
PRODID:-//github.com/rianjs/ical.net//NONSGML ical.net 4.0//EN
VERSION:2.0
BEGIN:VTIMEZONE
TZID:Central Standard Time
X-LIC-LOCATION:America/Chicago
BEGIN:STANDARD
DTSTART:20241103T020000
RRULE:FREQ=YEARLY;BYDAY=1SU;BYMONTH=11
TZNAME:CST
TZOFFSETFROM:-0500
TZOFFSETTO:-0600
END:STANDARD
BEGIN:DAYLIGHT
DTSTART:20250309T020000
RRULE:FREQ=YEARLY;BYDAY=2SU;BYMONTH=3
TZNAME:CDT
TZOFFSETFROM:-0600
TZOFFSETTO:-0500
END:DAYLIGHT
END:VTIMEZONE
BEGIN:VEVENT
DESCRIPTION:2026 Annual Meeting by the American Academy of Neurology\n\nTi
 tle: International Stiff-Person Syndrome Diagnostic Criteria Meeting\n\nD
 escription: A panel of experts on stiff-person syndrome are getting toget
 her to continue working on diagnostic criteria guidelines that will be us
 ed in clinical practice. \n\nLearn More About This Event: https://www.aan
 .com/msa/Public/Events/Details/23350
DTEND;TZID=Central Standard Time:20260420T080000
DTSTAMP:20260424T051103Z
DTSTART;TZID=Central Standard Time:20260420T060000
LOCATION:Hyatt Regency McCormick Place Chicago | Magnificent Mile
SEQUENCE:0
SUMMARY:AAN: International Stiff-Person Syndrome Diagnostic Criteria Meeti
 ng
UID:4614e3cf-0220-4294-9ea2-ee6b02bb4458
END:VEVENT
END:VCALENDAR
