BEGIN:VCALENDAR
PRODID:-//github.com/rianjs/ical.net//NONSGML ical.net 4.0//EN
VERSION:2.0
BEGIN:VEVENT
DESCRIPTION:2018 Sports Concussion Conference by the American Academy of N
 eurology\n\nTitle: Keynote Address: Concussion Research -- Then and Now \
 n\nAccess URL: https://www.aan.com/msa/Public/Events/GetEventURL/5040\n\n
 Learn More About This Event: https://www.aan.com/msa/Public/Events/Detail
 s/5040
DTEND;VALUE=DATE:20180722
DTSTAMP:20260424T072302Z
DTSTART;VALUE=DATE:20180720
LOCATION:https://www.aan.com/msa/Public/Events/GetEventURL/5040
SEQUENCE:0
SUMMARY:AAN: Keynote Address: Concussion Research -- Then and Now
UID:641963c2-d39e-46f7-b460-25e33598af18
END:VEVENT
END:VCALENDAR
