BEGIN:VCALENDAR
PRODID:-//github.com/rianjs/ical.net//NONSGML ical.net 4.0//EN
VERSION:2.0
BEGIN:VEVENT
DESCRIPTION:2018 Sports Concussion Conference by the American Academy of N
 eurology\n\nTitle: Working Lunch with the Experts\n\nAccess URL: https://
 www.aan.com/msa/Public/Events/GetEventURL/5041\n\nLearn More About This E
 vent: https://www.aan.com/msa/Public/Events/Details/5041
DTEND:20180720T133000
DTSTAMP:20260424T054104Z
DTSTART:20180720T120000
LOCATION:https://www.aan.com/msa/Public/Events/GetEventURL/5041
SEQUENCE:0
SUMMARY:AAN: Working Lunch with the Experts
UID:110e39fd-0dab-44c5-8c76-39363fdcaffb
END:VEVENT
END:VCALENDAR
