BEGIN:VCALENDAR
PRODID:-//github.com/rianjs/ical.net//NONSGML ical.net 4.0//EN
VERSION:2.0
BEGIN:VEVENT
DESCRIPTION:2018 Sports Concussion Conference by the American Academy of N
 eurology\n\nTitle: The NCAA-DoD CARE Consortium\n\nAccess URL: https://ww
 w.aan.com/msa/Public/Events/GetEventURL/5043\n\nLearn More About This Eve
 nt: https://www.aan.com/msa/Public/Events/Details/5043
DTEND;VALUE=DATE:20180722
DTSTAMP:20260424T072306Z
DTSTART;VALUE=DATE:20180720
LOCATION:https://www.aan.com/msa/Public/Events/GetEventURL/5043
SEQUENCE:0
SUMMARY:AAN: The NCAA-DoD CARE Consortium
UID:b1ab40aa-4556-4246-a289-ba82efc64600
END:VEVENT
END:VCALENDAR
