BEGIN:VCALENDAR
PRODID:-//github.com/rianjs/ical.net//NONSGML ical.net 4.0//EN
VERSION:2.0
BEGIN:VEVENT
DESCRIPTION:2018 Sports Concussion Conference by the American Academy of N
 eurology\n\nTitle: What Do I Do Now? Concussion Subtypes\n\nAccess URL: h
 ttps://www.aan.com/msa/Public/Events/GetEventURL/5044\n\nLearn More About
  This Event: https://www.aan.com/msa/Public/Events/Details/5044
DTEND:20180721T110000
DTSTAMP:20260424T054212Z
DTSTART:20180721T080000
LOCATION:https://www.aan.com/msa/Public/Events/GetEventURL/5044
SEQUENCE:0
SUMMARY:AAN: What Do I Do Now? Concussion Subtypes
UID:42e0448e-795c-4569-b192-b7b75063ed90
END:VEVENT
END:VCALENDAR
