BEGIN:VCALENDAR
PRODID:-//github.com/rianjs/ical.net//NONSGML ical.net 4.0//EN
VERSION:2.0
BEGIN:VEVENT
DESCRIPTION:2018 Sports Concussion Conference by the American Academy of N
 eurology\n\nTitle: Medical-Legal Considerations\n\nAccess URL: https://ww
 w.aan.com/msa/Public/Events/GetEventURL/5045\n\nLearn More About This Eve
 nt: https://www.aan.com/msa/Public/Events/Details/5045
DTEND:20180721T114500
DTSTAMP:20260424T054137Z
DTSTART:20180721T110000
LOCATION:https://www.aan.com/msa/Public/Events/GetEventURL/5045
SEQUENCE:0
SUMMARY:AAN: Medical-Legal Considerations
UID:c8775ab5-773d-451c-98b2-331b5b17059d
END:VEVENT
END:VCALENDAR
