BEGIN:VCALENDAR
PRODID:-//github.com/rianjs/ical.net//NONSGML ical.net 4.0//EN
VERSION:2.0
BEGIN:VEVENT
DESCRIPTION:2018 Sports Concussion Conference by the American Academy of N
 eurology\n\nTitle: Cutting-Edge Science: Speech Recognition as a Diagnost
 ic Marker of Concussion \n\nAccess URL: https://www.aan.com/msa/Public/Ev
 ents/GetEventURL/5047\n\nLearn More About This Event: https://www.aan.com
 /msa/Public/Events/Details/5047
DTEND:20180721T161000
DTSTAMP:20260424T054137Z
DTSTART:20180721T153000
LOCATION:https://www.aan.com/msa/Public/Events/GetEventURL/5047
SEQUENCE:0
SUMMARY:AAN: Cutting-Edge Science: Speech Recognition as a Diagnostic Mark
 er of Concussion
UID:cdb12a18-cbdd-46f9-8c8d-d47a353926fd
END:VEVENT
END:VCALENDAR
