BEGIN:VCALENDAR
PRODID:-//github.com/rianjs/ical.net//NONSGML ical.net 4.0//EN
VERSION:2.0
BEGIN:VEVENT
DESCRIPTION:2018 Sports Concussion Conference by the American Academy of N
 eurology\n\nTitle: The American Development Model and Contact Sports: Pan
 el Discussion\n\nAccess URL: https://www.aan.com/msa/Public/Events/GetEve
 ntURL/5048\n\nLearn More About This Event: https://www.aan.com/msa/Public
 /Events/Details/5048
DTEND:20180721T173000
DTSTAMP:20260424T054034Z
DTSTART:20180721T163000
LOCATION:https://www.aan.com/msa/Public/Events/GetEventURL/5048
SEQUENCE:0
SUMMARY:AAN: The American Development Model and Contact Sports: Panel Disc
 ussion
UID:ffb34091-5272-4aba-84b3-9c684cff8cd3
END:VEVENT
END:VCALENDAR
