BEGIN:VCALENDAR
PRODID:-//github.com/rianjs/ical.net//NONSGML ical.net 4.0//EN
VERSION:2.0
BEGIN:VEVENT
DESCRIPTION:2018 Sports Concussion Conference by the American Academy of N
 eurology\n\nTitle: Chronic Sequelae of Concussion and Repetitive Head Imp
 act\n\nAccess URL: https://www.aan.com/msa/Public/Events/GetEventURL/5049
 \n\nLearn More About This Event: https://www.aan.com/msa/Public/Events/De
 tails/5049
DTEND:20180722T093000
DTSTAMP:20260424T054211Z
DTSTART:20180722T080000
LOCATION:https://www.aan.com/msa/Public/Events/GetEventURL/5049
SEQUENCE:0
SUMMARY:AAN: Chronic Sequelae of Concussion and Repetitive Head Impact
UID:deaa65f6-5994-4166-bdef-374c7e350a38
END:VEVENT
END:VCALENDAR
