BEGIN:VCALENDAR
PRODID:-//github.com/rianjs/ical.net//NONSGML ical.net 4.0//EN
VERSION:2.0
BEGIN:VEVENT
DESCRIPTION:2018 Sports Concussion Conference by the American Academy of N
 eurology\n\nTitle: A Year in Review –  Understanding the Rapid Evolution 
 of the Clinical and Research Landscape\n\nAccess URL: https://www.aan.com
 /msa/Public/Events/GetEventURL/5050\n\nLearn More About This Event: https
 ://www.aan.com/msa/Public/Events/Details/5050
DTEND:20180722T113000
DTSTAMP:20260424T054208Z
DTSTART:20180722T093000
LOCATION:https://www.aan.com/msa/Public/Events/GetEventURL/5050
SEQUENCE:0
SUMMARY:AAN: A Year in Review –  Understanding the Rapid Evolution of the 
 Clinical and Research Landscape
UID:5eb68b77-dfe4-40bf-ad6f-de8ebbe9cbfb
END:VEVENT
END:VCALENDAR
