BEGIN:VCALENDAR
PRODID:-//github.com/rianjs/ical.net//NONSGML ical.net 4.0//EN
VERSION:2.0
BEGIN:VEVENT
DESCRIPTION:2018 Sports Concussion Conference by the American Academy of N
 eurology\n\nTitle: Poster Session 01\n\nAccess URL: https://www.aan.com/m
 sa/Public/Events/GetEventURL/5537\n\nLearn More About This Event: https:/
 /www.aan.com/msa/Public/Events/Details/5537
DTEND:20180720T183000
DTSTAMP:20260424T053956Z
DTSTART:20180720T173000
LOCATION:https://www.aan.com/msa/Public/Events/GetEventURL/5537
SEQUENCE:0
SUMMARY:AAN: Poster Session 01
UID:5ac05719-9d44-420f-a294-cdc86a46c160
END:VEVENT
END:VCALENDAR
