BEGIN:VCALENDAR
PRODID:-//github.com/rianjs/ical.net//NONSGML ical.net 4.0//EN
VERSION:2.0
BEGIN:VEVENT
DESCRIPTION:2018 Sports Concussion Conference by the American Academy of N
 eurology\n\nTitle: Networking Reception at the NCAA Hall of Champions\n\n
 Access URL: https://www.aan.com/msa/Public/Events/GetEventURL/5539\n\nLea
 rn More About This Event: https://www.aan.com/msa/Public/Events/Details/5
 539
DTEND:20180720T203000
DTSTAMP:20260424T053958Z
DTSTART:20180720T190000
LOCATION:https://www.aan.com/msa/Public/Events/GetEventURL/5539
SEQUENCE:0
SUMMARY:AAN: Networking Reception at the NCAA Hall of Champions
UID:598b4f8d-ce7d-42da-9c47-1eb136b9a1ae
END:VEVENT
END:VCALENDAR
