BEGIN:VCALENDAR
PRODID:-//github.com/rianjs/ical.net//NONSGML ical.net 4.0//EN
VERSION:2.0
BEGIN:VEVENT
DESCRIPTION:2006 Annual Meeting by the American Academy of Neurology\n\nTi
 tle: Using AAN Guidelines and Best Current Evidence in Daily Practice: Pa
 rkinson's Disease\n\nAccess URL: https://www.aan.com/msa/Public/Events/Ge
 tEventURL/604\n\nLearn More About This Event: https://www.aan.com/msa/Pub
 lic/Events/Details/604
DTEND:20060401T180000
DTSTAMP:20260424T121918Z
DTSTART:20060401T141500
LOCATION:https://www.aan.com/msa/Public/Events/GetEventURL/604
SEQUENCE:0
SUMMARY:AAN: Using AAN Guidelines and Best Current Evidence in Daily Pract
 ice: Parkinson's Disease
UID:ff4ac30a-498c-4efe-8232-6f2e0e115336
END:VEVENT
END:VCALENDAR
