BEGIN:VCALENDAR
PRODID:-//github.com/rianjs/ical.net//NONSGML ical.net 4.0//EN
VERSION:2.0
BEGIN:VEVENT
DESCRIPTION:2006 Annual Meeting by the American Academy of Neurology\n\nTi
 tle: Movement Disorders Emergencies: Adults and Children\n\nAccess URL: h
 ttps://www.aan.com/msa/Public/Events/GetEventURL/606\n\nLearn More About 
 This Event: https://www.aan.com/msa/Public/Events/Details/606
DTEND:20060401T200000
DTSTAMP:20260424T121918Z
DTSTART:20060401T180000
LOCATION:https://www.aan.com/msa/Public/Events/GetEventURL/606
SEQUENCE:0
SUMMARY:AAN: Movement Disorders Emergencies: Adults and Children
UID:e64cbaff-aade-457d-9bef-7f455893a5c0
END:VEVENT
END:VCALENDAR
