BEGIN:VCALENDAR
PRODID:-//github.com/rianjs/ical.net//NONSGML ical.net 4.0//EN
VERSION:2.0
BEGIN:VEVENT
DESCRIPTION:2006 Annual Meeting by the American Academy of Neurology\n\nTi
 tle: Mild Cognitive Impairment: Implications for Clinicians\n\nAccess URL
 : https://www.aan.com/msa/Public/Events/GetEventURL/607\n\nLearn More Abo
 ut This Event: https://www.aan.com/msa/Public/Events/Details/607
DTEND:20060401T200000
DTSTAMP:20260424T121902Z
DTSTART:20060401T180000
LOCATION:https://www.aan.com/msa/Public/Events/GetEventURL/607
SEQUENCE:0
SUMMARY:AAN: Mild Cognitive Impairment: Implications for Clinicians
UID:384b115b-1abb-4d43-8934-4058b36bcab6
END:VEVENT
END:VCALENDAR
