BEGIN:VCALENDAR
PRODID:-//github.com/rianjs/ical.net//NONSGML ical.net 4.0//EN
VERSION:2.0
BEGIN:VEVENT
DESCRIPTION:2006 Annual Meeting by the American Academy of Neurology\n\nTi
 tle: Genetics 101: Basic Principles and Recent Progress\n\nAccess URL: ht
 tps://www.aan.com/msa/Public/Events/GetEventURL/613\n\nLearn More About T
 his Event: https://www.aan.com/msa/Public/Events/Details/613
DTEND:20060401T200000
DTSTAMP:20260424T122153Z
DTSTART:20060401T180000
LOCATION:https://www.aan.com/msa/Public/Events/GetEventURL/613
SEQUENCE:0
SUMMARY:AAN: Genetics 101: Basic Principles and Recent Progress
UID:b0b9d7b4-c95e-4314-8f3d-134370d90b66
END:VEVENT
END:VCALENDAR
