BEGIN:VCALENDAR
PRODID:-//github.com/rianjs/ical.net//NONSGML ical.net 4.0//EN
VERSION:2.0
BEGIN:VEVENT
DESCRIPTION:2006 Annual Meeting by the American Academy of Neurology\n\nTi
 tle: Pseudotumor Cerebri\n\nAccess URL: https://www.aan.com/msa/Public/Ev
 ents/GetEventURL/618\n\nLearn More About This Event: https://www.aan.com/
 msa/Public/Events/Details/618
DTEND:20090426T083000
DTSTAMP:20260424T121859Z
DTSTART:20090426T064500
LOCATION:https://www.aan.com/msa/Public/Events/GetEventURL/618
SEQUENCE:0
SUMMARY:AAN: Pseudotumor Cerebri
UID:a72211ac-bf45-4562-b726-7b114963a3b5
END:VEVENT
END:VCALENDAR
