BEGIN:VCALENDAR
PRODID:-//github.com/rianjs/ical.net//NONSGML ical.net 4.0//EN
VERSION:2.0
BEGIN:VEVENT
DESCRIPTION:2006 Annual Meeting by the American Academy of Neurology\n\nTi
 tle: Genetic Testing in Clinical Neurology\n\nAccess URL: https://www.aan
 .com/msa/Public/Events/GetEventURL/620\n\nLearn More About This Event: ht
 tps://www.aan.com/msa/Public/Events/Details/620
DTEND:20060402T124500
DTSTAMP:20260424T121900Z
DTSTART:20060402T090000
LOCATION:https://www.aan.com/msa/Public/Events/GetEventURL/620
SEQUENCE:0
SUMMARY:AAN: Genetic Testing in Clinical Neurology
UID:b6513bb7-dd57-46d5-a796-3fa2b2685d83
END:VEVENT
END:VCALENDAR
