BEGIN:VCALENDAR
PRODID:-//github.com/rianjs/ical.net//NONSGML ical.net 4.0//EN
VERSION:2.0
BEGIN:VEVENT
DESCRIPTION:2006 Annual Meeting by the American Academy of Neurology\n\nTi
 tle: Clinical Approach to Muscle Disease\n\nAccess URL: https://www.aan.c
 om/msa/Public/Events/GetEventURL/622\n\nLearn More About This Event: http
 s://www.aan.com/msa/Public/Events/Details/622
DTEND:20060402T124500
DTSTAMP:20260424T122210Z
DTSTART:20060402T090000
LOCATION:https://www.aan.com/msa/Public/Events/GetEventURL/622
SEQUENCE:0
SUMMARY:AAN: Clinical Approach to Muscle Disease
UID:b51d9089-1ce5-4ac2-9415-d8df58d7f079
END:VEVENT
END:VCALENDAR
