BEGIN:VCALENDAR
PRODID:-//github.com/rianjs/ical.net//NONSGML ical.net 4.0//EN
VERSION:2.0
BEGIN:VEVENT
DESCRIPTION:2006 Annual Meeting by the American Academy of Neurology\n\nTi
 tle: Neurology of Sleep\n\nAccess URL: https://www.aan.com/msa/Public/Eve
 nts/GetEventURL/623\n\nLearn More About This Event: https://www.aan.com/m
 sa/Public/Events/Details/623
DTEND:20060402T124500
DTSTAMP:20260424T121916Z
DTSTART:20060402T090000
LOCATION:https://www.aan.com/msa/Public/Events/GetEventURL/623
SEQUENCE:0
SUMMARY:AAN: Neurology of Sleep
UID:bba44326-72e8-4796-97e1-2219aed35a15
END:VEVENT
END:VCALENDAR
