BEGIN:VCALENDAR
PRODID:-//github.com/rianjs/ical.net//NONSGML ical.net 4.0//EN
VERSION:2.0
BEGIN:VEVENT
DESCRIPTION:2006 Annual Meeting by the American Academy of Neurology\n\nTi
 tle: EMG Skills Workshop  Basic\n\nAccess URL: https://www.aan.com/msa/Pu
 blic/Events/GetEventURL/625\n\nLearn More About This Event: https://www.a
 an.com/msa/Public/Events/Details/625
DTEND:20060402T180000
DTSTAMP:20260424T122036Z
DTSTART:20060402T090000
LOCATION:https://www.aan.com/msa/Public/Events/GetEventURL/625
SEQUENCE:0
SUMMARY:AAN: EMG Skills Workshop  Basic
UID:d10476a3-e511-4827-8664-0c818481fe9a
END:VEVENT
END:VCALENDAR
