BEGIN:VCALENDAR
PRODID:-//github.com/rianjs/ical.net//NONSGML ical.net 4.0//EN
VERSION:2.0
BEGIN:VEVENT
DESCRIPTION:2006 Annual Meeting by the American Academy of Neurology\n\nTi
 tle: Therapy in Neurology\n\nAccess URL: https://www.aan.com/msa/Public/E
 vents/GetEventURL/626\n\nLearn More About This Event: https://www.aan.com
 /msa/Public/Events/Details/626
DTEND:20060402T170000
DTSTAMP:20260424T121900Z
DTSTART:20060402T090000
LOCATION:https://www.aan.com/msa/Public/Events/GetEventURL/626
SEQUENCE:0
SUMMARY:AAN: Therapy in Neurology
UID:e3e096c2-b148-4771-9381-eb027010dc55
END:VEVENT
END:VCALENDAR
