BEGIN:VCALENDAR
PRODID:-//github.com/rianjs/ical.net//NONSGML ical.net 4.0//EN
VERSION:2.0
BEGIN:VEVENT
DESCRIPTION:2006 Annual Meeting by the American Academy of Neurology\n\nTi
 tle: Movement Disorders\n\nAccess URL: https://www.aan.com/msa/Public/Eve
 nts/GetEventURL/627\n\nLearn More About This Event: https://www.aan.com/m
 sa/Public/Events/Details/627
DTEND:20060402T170000
DTSTAMP:20260424T121900Z
DTSTART:20060402T090000
LOCATION:https://www.aan.com/msa/Public/Events/GetEventURL/627
SEQUENCE:0
SUMMARY:AAN: Movement Disorders
UID:499b3aea-6b2d-43d2-be73-5b5d513cc677
END:VEVENT
END:VCALENDAR
