BEGIN:VCALENDAR
PRODID:-//github.com/rianjs/ical.net//NONSGML ical.net 4.0//EN
VERSION:2.0
BEGIN:VEVENT
DESCRIPTION:2006 Annual Meeting by the American Academy of Neurology\n\nTi
 tle: Update on MRI: Techniques and Neurological Applications\n\nAccess UR
 L: https://www.aan.com/msa/Public/Events/GetEventURL/628\n\nLearn More Ab
 out This Event: https://www.aan.com/msa/Public/Events/Details/628
DTEND:20060402T170000
DTSTAMP:20260424T121902Z
DTSTART:20060402T090000
LOCATION:https://www.aan.com/msa/Public/Events/GetEventURL/628
SEQUENCE:0
SUMMARY:AAN: Update on MRI: Techniques and Neurological Applications
UID:11d9ae6e-0970-4f82-b528-e8969db62028
END:VEVENT
END:VCALENDAR
