BEGIN:VCALENDAR
PRODID:-//github.com/rianjs/ical.net//NONSGML ical.net 4.0//EN
VERSION:2.0
BEGIN:VEVENT
DESCRIPTION:2006 Annual Meeting by the American Academy of Neurology\n\nTi
 tle: Cerebrovascular Disease: Advances in Stroke\n\nAccess URL: https://w
 ww.aan.com/msa/Public/Events/GetEventURL/629\n\nLearn More About This Eve
 nt: https://www.aan.com/msa/Public/Events/Details/629
DTEND:20060402T170000
DTSTAMP:20260424T121920Z
DTSTART:20060402T090000
LOCATION:https://www.aan.com/msa/Public/Events/GetEventURL/629
SEQUENCE:0
SUMMARY:AAN: Cerebrovascular Disease: Advances in Stroke
UID:d65e8895-2e1e-4f12-9d90-e8e0301e88f3
END:VEVENT
END:VCALENDAR
