BEGIN:VCALENDAR
PRODID:-//github.com/rianjs/ical.net//NONSGML ical.net 4.0//EN
VERSION:2.0
BEGIN:VEVENT
DESCRIPTION:2006 Annual Meeting by the American Academy of Neurology\n\nTi
 tle: Clinical EEG\n\nAccess URL: https://www.aan.com/msa/Public/Events/Ge
 tEventURL/630\n\nLearn More About This Event: https://www.aan.com/msa/Pub
 lic/Events/Details/630
DTEND:20060407T170000
DTSTAMP:20260424T122021Z
DTSTART:20060407T090000
LOCATION:https://www.aan.com/msa/Public/Events/GetEventURL/630
SEQUENCE:0
SUMMARY:AAN: Clinical EEG
UID:fa213c71-8cd1-4dd4-8509-1f1e8b9af22a
END:VEVENT
END:VCALENDAR
