BEGIN:VCALENDAR
PRODID:-//github.com/rianjs/ical.net//NONSGML ical.net 4.0//EN
VERSION:2.0
BEGIN:VEVENT
DESCRIPTION:2006 Annual Meeting by the American Academy of Neurology\n\nTi
 tle: Myasthenia Gravis: Diagnosis and Treatment\n\nAccess URL: https://ww
 w.aan.com/msa/Public/Events/GetEventURL/632\n\nLearn More About This Even
 t: https://www.aan.com/msa/Public/Events/Details/632
DTEND:20060402T180000
DTSTAMP:20260424T122032Z
DTSTART:20060402T141500
LOCATION:https://www.aan.com/msa/Public/Events/GetEventURL/632
SEQUENCE:0
SUMMARY:AAN: Myasthenia Gravis: Diagnosis and Treatment
UID:c15d8995-28b8-45c5-a5d9-a2c050deef70
END:VEVENT
END:VCALENDAR
