BEGIN:VCALENDAR
PRODID:-//github.com/rianjs/ical.net//NONSGML ical.net 4.0//EN
VERSION:2.0
BEGIN:VEVENT
DESCRIPTION:2006 Annual Meeting by the American Academy of Neurology\n\nTi
 tle: Scientific Basis of Neurology: Bench to Bedside and Back\n\nAccess U
 RL: https://www.aan.com/msa/Public/Events/GetEventURL/634\n\nLearn More A
 bout This Event: https://www.aan.com/msa/Public/Events/Details/634
DTEND:20060402T180000
DTSTAMP:20260424T122020Z
DTSTART:20060402T141500
LOCATION:https://www.aan.com/msa/Public/Events/GetEventURL/634
SEQUENCE:0
SUMMARY:AAN: Scientific Basis of Neurology: Bench to Bedside and Back
UID:23ef26a2-6d89-4278-afb2-e0bf730ab967
END:VEVENT
END:VCALENDAR
