BEGIN:VCALENDAR
PRODID:-//github.com/rianjs/ical.net//NONSGML ical.net 4.0//EN
VERSION:2.0
BEGIN:VEVENT
DESCRIPTION:2006 Annual Meeting by the American Academy of Neurology\n\nTi
 tle: Psychogenic and "Functional" Symptoms in Neurology\n\nAccess URL: ht
 tps://www.aan.com/msa/Public/Events/GetEventURL/636\n\nLearn More About T
 his Event: https://www.aan.com/msa/Public/Events/Details/636
DTEND:20060402T210000
DTSTAMP:20260424T122034Z
DTSTART:20060402T180000
LOCATION:https://www.aan.com/msa/Public/Events/GetEventURL/636
SEQUENCE:0
SUMMARY:AAN: Psychogenic and "Functional" Symptoms in Neurology
UID:a90e2817-629e-42c6-9d33-568682faf93f
END:VEVENT
END:VCALENDAR
