BEGIN:VCALENDAR
PRODID:-//github.com/rianjs/ical.net//NONSGML ical.net 4.0//EN
VERSION:2.0
BEGIN:VEVENT
DESCRIPTION:2006 Annual Meeting by the American Academy of Neurology\n\nTi
 tle: The Neurology of Famous Musicians and Composers\n\nAccess URL: https
 ://www.aan.com/msa/Public/Events/GetEventURL/640\n\nLearn More About This
  Event: https://www.aan.com/msa/Public/Events/Details/640
DTEND:20060402T210000
DTSTAMP:20260424T122018Z
DTSTART:20060402T180000
LOCATION:https://www.aan.com/msa/Public/Events/GetEventURL/640
SEQUENCE:0
SUMMARY:AAN: The Neurology of Famous Musicians and Composers
UID:8866e084-0314-4260-86ca-722ddabce266
END:VEVENT
END:VCALENDAR
