BEGIN:VCALENDAR
PRODID:-//github.com/rianjs/ical.net//NONSGML ical.net 4.0//EN
VERSION:2.0
BEGIN:VEVENT
DESCRIPTION:2006 Annual Meeting by the American Academy of Neurology\n\nTi
 tle: New Perspectives on ALS Treatment\n\nAccess URL: https://www.aan.com
 /msa/Public/Events/GetEventURL/641\n\nLearn More About This Event: https:
 //www.aan.com/msa/Public/Events/Details/641
DTEND:20060403T083000
DTSTAMP:20260424T122034Z
DTSTART:20060403T064500
LOCATION:https://www.aan.com/msa/Public/Events/GetEventURL/641
SEQUENCE:0
SUMMARY:AAN: New Perspectives on ALS Treatment
UID:246a7115-4f39-43fb-b589-05afddb43786
END:VEVENT
END:VCALENDAR
