BEGIN:VCALENDAR
PRODID:-//github.com/rianjs/ical.net//NONSGML ical.net 4.0//EN
VERSION:2.0
BEGIN:VEVENT
DESCRIPTION:2006 Annual Meeting by the American Academy of Neurology\n\nTi
 tle: Dementia Evaluation in the Office\n\nAccess URL: https://www.aan.com
 /msa/Public/Events/GetEventURL/643\n\nLearn More About This Event: https:
 //www.aan.com/msa/Public/Events/Details/643
DTEND:20060403T083000
DTSTAMP:20260424T121859Z
DTSTART:20060403T064500
LOCATION:https://www.aan.com/msa/Public/Events/GetEventURL/643
SEQUENCE:0
SUMMARY:AAN: Dementia Evaluation in the Office
UID:8431a610-b261-47fc-b6cb-ad1ba1349c69
END:VEVENT
END:VCALENDAR
