BEGIN:VCALENDAR
PRODID:-//github.com/rianjs/ical.net//NONSGML ical.net 4.0//EN
VERSION:2.0
BEGIN:VTIMEZONE
TZID:Eastern Standard Time
X-LIC-LOCATION:America/New_York
BEGIN:STANDARD
DTSTART:20241103T020000
RRULE:FREQ=YEARLY;BYDAY=1SU;BYMONTH=11
TZNAME:EST
TZOFFSETFROM:-0400
TZOFFSETTO:-0500
END:STANDARD
BEGIN:DAYLIGHT
DTSTART:20250309T020000
RRULE:FREQ=YEARLY;BYDAY=2SU;BYMONTH=3
TZNAME:EDT
TZOFFSETFROM:-0500
TZOFFSETTO:-0400
END:DAYLIGHT
END:VTIMEZONE
BEGIN:VEVENT
DESCRIPTION:2019 Annual Meeting by the American Academy of Neurology\n\nTi
 tle: Clinical EEG: Normal EEG\, Normal Variants\, and How to Avoid The Co
 mmon Pitfall of Over-reading\n\nAccess URL: https://www.aan.com/msa/Publi
 c/Events/GetEventURL/6436\n\nLearn More About This Event: https://www.aan
 .com/msa/Public/Events/Details/6436
DTEND;TZID=Eastern Standard Time:20190504T090000
DTSTAMP:20260424T053921Z
DTSTART;TZID=Eastern Standard Time:20190504T070000
LOCATION:https://www.aan.com/msa/Public/Events/GetEventURL/6436
SEQUENCE:0
SUMMARY:AAN: Clinical EEG: Normal EEG\, Normal Variants\, and How to Avoid
  The Common Pitfall of Over-reading
UID:7e256537-8a54-41f4-95ec-393f6c74830d
END:VEVENT
END:VCALENDAR
