BEGIN:VCALENDAR
PRODID:-//github.com/rianjs/ical.net//NONSGML ical.net 4.0//EN
VERSION:2.0
BEGIN:VEVENT
DESCRIPTION:2006 Annual Meeting by the American Academy of Neurology\n\nTi
 tle: Painful Pain Patients\n\nAccess URL: https://www.aan.com/msa/Public/
 Events/GetEventURL/644\n\nLearn More About This Event: https://www.aan.co
 m/msa/Public/Events/Details/644
DTEND:20060403T124500
DTSTAMP:20260424T121918Z
DTSTART:20060403T090000
LOCATION:https://www.aan.com/msa/Public/Events/GetEventURL/644
SEQUENCE:0
SUMMARY:AAN: Painful Pain Patients
UID:2721adad-c654-48fa-a0df-9e4820a6c863
END:VEVENT
END:VCALENDAR
