BEGIN:VCALENDAR
PRODID:-//github.com/rianjs/ical.net//NONSGML ical.net 4.0//EN
VERSION:2.0
BEGIN:VEVENT
DESCRIPTION:2006 Annual Meeting by the American Academy of Neurology\n\nTi
 tle: Emergency Department Neuro-ophthalmology\n\nAccess URL: https://www.
 aan.com/msa/Public/Events/GetEventURL/645\n\nLearn More About This Event:
  https://www.aan.com/msa/Public/Events/Details/645
DTEND:20060403T124500
DTSTAMP:20260424T121918Z
DTSTART:20060403T090000
LOCATION:https://www.aan.com/msa/Public/Events/GetEventURL/645
SEQUENCE:0
SUMMARY:AAN: Emergency Department Neuro-ophthalmology
UID:e3ff6a75-a2fa-4814-bd84-714320511b2b
END:VEVENT
END:VCALENDAR
