BEGIN:VCALENDAR
PRODID:-//github.com/rianjs/ical.net//NONSGML ical.net 4.0//EN
VERSION:2.0
BEGIN:VEVENT
DESCRIPTION:2006 Annual Meeting by the American Academy of Neurology\n\nTi
 tle: Clinical Epilepsy I\n\nAccess URL: https://www.aan.com/msa/Public/Ev
 ents/GetEventURL/647\n\nLearn More About This Event: https://www.aan.com/
 msa/Public/Events/Details/647
DTEND:20060403T124500
DTSTAMP:20260424T121900Z
DTSTART:20060403T090000
LOCATION:https://www.aan.com/msa/Public/Events/GetEventURL/647
SEQUENCE:0
SUMMARY:AAN: Clinical Epilepsy I
UID:bcb2d151-ca23-4688-b230-4faae00e0409
END:VEVENT
END:VCALENDAR
