BEGIN:VCALENDAR
PRODID:-//github.com/rianjs/ical.net//NONSGML ical.net 4.0//EN
VERSION:2.0
BEGIN:VTIMEZONE
TZID:Eastern Standard Time
X-LIC-LOCATION:America/New_York
BEGIN:STANDARD
DTSTART:20241103T020000
RRULE:FREQ=YEARLY;BYDAY=1SU;BYMONTH=11
TZNAME:EST
TZOFFSETFROM:-0400
TZOFFSETTO:-0500
END:STANDARD
BEGIN:DAYLIGHT
DTSTART:20250309T020000
RRULE:FREQ=YEARLY;BYDAY=2SU;BYMONTH=3
TZNAME:EDT
TZOFFSETFROM:-0500
TZOFFSETTO:-0400
END:DAYLIGHT
END:VTIMEZONE
BEGIN:VEVENT
DESCRIPTION:2019 Annual Meeting by the American Academy of Neurology\n\nTi
 tle: Neuro-oncology in 2019: Navigating Current Trends\n\nAccess URL: htt
 ps://www.aan.com/msa/Public/Events/GetEventURL/6478\n\nLearn More About T
 his Event: https://www.aan.com/msa/Public/Events/Details/6478
DTEND;TZID=Eastern Standard Time:20190505T090000
DTSTAMP:20260424T053955Z
DTSTART;TZID=Eastern Standard Time:20190505T070000
LOCATION:https://www.aan.com/msa/Public/Events/GetEventURL/6478
SEQUENCE:0
SUMMARY:AAN: Neuro-oncology in 2019: Navigating Current Trends
UID:c74ca695-49f9-43e3-abe0-476b13fb5709
END:VEVENT
END:VCALENDAR
