BEGIN:VCALENDAR
PRODID:-//github.com/rianjs/ical.net//NONSGML ical.net 4.0//EN
VERSION:2.0
BEGIN:VTIMEZONE
TZID:Eastern Standard Time
X-LIC-LOCATION:America/New_York
BEGIN:STANDARD
DTSTART:20241103T020000
RRULE:FREQ=YEARLY;BYDAY=1SU;BYMONTH=11
TZNAME:EST
TZOFFSETFROM:-0400
TZOFFSETTO:-0500
END:STANDARD
BEGIN:DAYLIGHT
DTSTART:20250309T020000
RRULE:FREQ=YEARLY;BYDAY=2SU;BYMONTH=3
TZNAME:EDT
TZOFFSETFROM:-0500
TZOFFSETTO:-0400
END:DAYLIGHT
END:VTIMEZONE
BEGIN:VEVENT
DESCRIPTION:2019 Annual Meeting by the American Academy of Neurology\n\nTi
 tle: The Dystonias: Diagnosis\, Treatment and Update on Etiologies\n\nAcc
 ess URL: https://www.aan.com/msa/Public/Events/GetEventURL/6479\n\nLearn 
 More About This Event: https://www.aan.com/msa/Public/Events/Details/6479
DTEND;TZID=Eastern Standard Time:20190505T090000
DTSTAMP:20260424T054001Z
DTSTART;TZID=Eastern Standard Time:20190505T070000
LOCATION:https://www.aan.com/msa/Public/Events/GetEventURL/6479
SEQUENCE:0
SUMMARY:AAN: The Dystonias: Diagnosis\, Treatment and Update on Etiologies
UID:e2a6a106-b709-4bce-b861-f4d90be74c59
END:VEVENT
END:VCALENDAR
