BEGIN:VCALENDAR
PRODID:-//github.com/rianjs/ical.net//NONSGML ical.net 4.0//EN
VERSION:2.0
BEGIN:VEVENT
DESCRIPTION:2006 Annual Meeting by the American Academy of Neurology\n\nTi
 tle: Diagnosis and Management of Movement Disorders in Children\n\nAccess
  URL: https://www.aan.com/msa/Public/Events/GetEventURL/648\n\nLearn More
  About This Event: https://www.aan.com/msa/Public/Events/Details/648
DTEND:20060405T180000
DTSTAMP:20260424T121859Z
DTSTART:20060405T141500
LOCATION:https://www.aan.com/msa/Public/Events/GetEventURL/648
SEQUENCE:0
SUMMARY:AAN: Diagnosis and Management of Movement Disorders in Children
UID:7b2dce00-080a-4b26-96d3-89f68685d282
END:VEVENT
END:VCALENDAR
