BEGIN:VCALENDAR
PRODID:-//github.com/rianjs/ical.net//NONSGML ical.net 4.0//EN
VERSION:2.0
BEGIN:VTIMEZONE
TZID:Eastern Standard Time
X-LIC-LOCATION:America/New_York
BEGIN:STANDARD
DTSTART:20241103T020000
RRULE:FREQ=YEARLY;BYDAY=1SU;BYMONTH=11
TZNAME:EST
TZOFFSETFROM:-0400
TZOFFSETTO:-0500
END:STANDARD
BEGIN:DAYLIGHT
DTSTART:20250309T020000
RRULE:FREQ=YEARLY;BYDAY=2SU;BYMONTH=3
TZNAME:EDT
TZOFFSETFROM:-0500
TZOFFSETTO:-0400
END:DAYLIGHT
END:VTIMEZONE
BEGIN:VEVENT
DESCRIPTION:2019 Annual Meeting by the American Academy of Neurology\n\nTi
 tle: Assessment of Rapidly Progressive Dementias I: Prion and Non-prion N
 eurodegenerative Diseases\n\nAccess URL: https://www.aan.com/msa/Public/E
 vents/GetEventURL/6487\n\nLearn More About This Event: https://www.aan.co
 m/msa/Public/Events/Details/6487
DTEND;TZID=Eastern Standard Time:20190505T150000
DTSTAMP:20260424T054001Z
DTSTART;TZID=Eastern Standard Time:20190505T130000
LOCATION:https://www.aan.com/msa/Public/Events/GetEventURL/6487
SEQUENCE:0
SUMMARY:AAN: Assessment of Rapidly Progressive Dementias I: Prion and Non-
 prion Neurodegenerative Diseases
UID:b6698a1b-e135-4190-8cbb-3cc661c4f48c
END:VEVENT
END:VCALENDAR
