BEGIN:VCALENDAR
PRODID:-//github.com/rianjs/ical.net//NONSGML ical.net 4.0//EN
VERSION:2.0
BEGIN:VTIMEZONE
TZID:Eastern Standard Time
X-LIC-LOCATION:America/New_York
BEGIN:STANDARD
DTSTART:20241103T020000
RRULE:FREQ=YEARLY;BYDAY=1SU;BYMONTH=11
TZNAME:EST
TZOFFSETFROM:-0400
TZOFFSETTO:-0500
END:STANDARD
BEGIN:DAYLIGHT
DTSTART:20250309T020000
RRULE:FREQ=YEARLY;BYDAY=2SU;BYMONTH=3
TZNAME:EDT
TZOFFSETFROM:-0500
TZOFFSETTO:-0400
END:DAYLIGHT
END:VTIMEZONE
BEGIN:VEVENT
DESCRIPTION:2019 Annual Meeting by the American Academy of Neurology\n\nTi
 tle: Balance and Gait Disorders\n\nAccess URL: https://www.aan.com/msa/Pu
 blic/Events/GetEventURL/6491\n\nLearn More About This Event: https://www.
 aan.com/msa/Public/Events/Details/6491
DTEND;TZID=Eastern Standard Time:20190505T150000
DTSTAMP:20260424T054035Z
DTSTART;TZID=Eastern Standard Time:20190505T130000
LOCATION:https://www.aan.com/msa/Public/Events/GetEventURL/6491
SEQUENCE:0
SUMMARY:AAN: Balance and Gait Disorders
UID:7e23fcc9-a26f-4ec0-ac6c-7fbbdd1ad4c6
END:VEVENT
END:VCALENDAR
