BEGIN:VCALENDAR
PRODID:-//github.com/rianjs/ical.net//NONSGML ical.net 4.0//EN
VERSION:2.0
BEGIN:VEVENT
DESCRIPTION:2006 Annual Meeting by the American Academy of Neurology\n\nTi
 tle: Update in Neurology I\n\nAccess URL: https://www.aan.com/msa/Public/
 Events/GetEventURL/650\n\nLearn More About This Event: https://www.aan.co
 m/msa/Public/Events/Details/650
DTEND:20060403T170000
DTSTAMP:20260424T122033Z
DTSTART:20060403T090000
LOCATION:https://www.aan.com/msa/Public/Events/GetEventURL/650
SEQUENCE:0
SUMMARY:AAN: Update in Neurology I
UID:c4814057-0ffc-48b3-979a-59dc24185aa8
END:VEVENT
END:VCALENDAR
