BEGIN:VCALENDAR
PRODID:-//github.com/rianjs/ical.net//NONSGML ical.net 4.0//EN
VERSION:2.0
BEGIN:VTIMEZONE
TZID:Eastern Standard Time
X-LIC-LOCATION:America/New_York
BEGIN:STANDARD
DTSTART:20241103T020000
RRULE:FREQ=YEARLY;BYDAY=1SU;BYMONTH=11
TZNAME:EST
TZOFFSETFROM:-0400
TZOFFSETTO:-0500
END:STANDARD
BEGIN:DAYLIGHT
DTSTART:20250309T020000
RRULE:FREQ=YEARLY;BYDAY=2SU;BYMONTH=3
TZNAME:EDT
TZOFFSETFROM:-0500
TZOFFSETTO:-0400
END:DAYLIGHT
END:VTIMEZONE
BEGIN:VEVENT
DESCRIPTION:2019 Annual Meeting by the American Academy of Neurology\n\nTi
 tle: Women in Leadership: 2019\, Why Are We Still Talking About This?\n\n
 Access URL: https://www.aan.com/msa/Public/Events/GetEventURL/6500\n\nLea
 rn More About This Event: https://www.aan.com/msa/Public/Events/Details/6
 500
DTEND;TZID=Eastern Standard Time:20190505T160000
DTSTAMP:20260424T054004Z
DTSTART;TZID=Eastern Standard Time:20190505T130000
LOCATION:https://www.aan.com/msa/Public/Events/GetEventURL/6500
SEQUENCE:0
SUMMARY:AAN: Women in Leadership: 2019\, Why Are We Still Talking About Th
 is?
UID:8529cf2d-9d26-4049-89ed-9b63406b2c89
END:VEVENT
END:VCALENDAR
