BEGIN:VCALENDAR
PRODID:-//github.com/rianjs/ical.net//NONSGML ical.net 4.0//EN
VERSION:2.0
BEGIN:VTIMEZONE
TZID:Eastern Standard Time
X-LIC-LOCATION:America/New_York
BEGIN:STANDARD
DTSTART:20241103T020000
RRULE:FREQ=YEARLY;BYDAY=1SU;BYMONTH=11
TZNAME:EST
TZOFFSETFROM:-0400
TZOFFSETTO:-0500
END:STANDARD
BEGIN:DAYLIGHT
DTSTART:20250309T020000
RRULE:FREQ=YEARLY;BYDAY=2SU;BYMONTH=3
TZNAME:EDT
TZOFFSETFROM:-0500
TZOFFSETTO:-0400
END:DAYLIGHT
END:VTIMEZONE
BEGIN:VEVENT
DESCRIPTION:2019 Annual Meeting by the American Academy of Neurology\n\nTi
 tle: Neuromuscular Junction Disorders II: Toxins\, Lambert-Eaton Syndrome
  and Less Common Disorders of Neuromuscular Transmission\n\nAccess URL: h
 ttps://www.aan.com/msa/Public/Events/GetEventURL/6504\n\nLearn More About
  This Event: https://www.aan.com/msa/Public/Events/Details/6504
DTEND;TZID=Eastern Standard Time:20190508T173000
DTSTAMP:20260424T054039Z
DTSTART;TZID=Eastern Standard Time:20190508T153000
LOCATION:https://www.aan.com/msa/Public/Events/GetEventURL/6504
SEQUENCE:0
SUMMARY:AAN: Neuromuscular Junction Disorders II: Toxins\, Lambert-Eaton S
 yndrome and Less Common Disorders of Neuromuscular Transmission
UID:a2dc979d-5bb6-42b0-b330-c57a864d96d2
END:VEVENT
END:VCALENDAR
