BEGIN:VCALENDAR
PRODID:-//github.com/rianjs/ical.net//NONSGML ical.net 4.0//EN
VERSION:2.0
BEGIN:VTIMEZONE
TZID:Eastern Standard Time
X-LIC-LOCATION:America/New_York
BEGIN:STANDARD
DTSTART:20241103T020000
RRULE:FREQ=YEARLY;BYDAY=1SU;BYMONTH=11
TZNAME:EST
TZOFFSETFROM:-0400
TZOFFSETTO:-0500
END:STANDARD
BEGIN:DAYLIGHT
DTSTART:20250309T020000
RRULE:FREQ=YEARLY;BYDAY=2SU;BYMONTH=3
TZNAME:EDT
TZOFFSETFROM:-0500
TZOFFSETTO:-0400
END:DAYLIGHT
END:VTIMEZONE
BEGIN:VEVENT
DESCRIPTION:2019 Annual Meeting by the American Academy of Neurology\n\nTi
 tle: Infections of the Nervous System III: Advanced Topics in Infectious 
 Neurology\n\nAccess URL: https://www.aan.com/msa/Public/Events/GetEventUR
 L/6506\n\nLearn More About This Event: https://www.aan.com/msa/Public/Eve
 nts/Details/6506
DTEND;TZID=Eastern Standard Time:20190505T173000
DTSTAMP:20260424T054103Z
DTSTART;TZID=Eastern Standard Time:20190505T153000
LOCATION:https://www.aan.com/msa/Public/Events/GetEventURL/6506
SEQUENCE:0
SUMMARY:AAN: Infections of the Nervous System III: Advanced Topics in Infe
 ctious Neurology
UID:c01f3670-8371-437c-adfb-73a45f737546
END:VEVENT
END:VCALENDAR
